{"text_format":"1","workbook":"xlsx","n_sheets":10,"sheets":["ホーム","天井　野縁上敷込","屋根　垂木間充填","壁　軸組　充填","壁　枠組　充填","その他床　剛床工法","その他床　根太間","外気に接する床　剛床工法","その他床　枠組根太工法","DATAｼｰﾄ"],"not_rendered":{"charts":0,"images":2,"macros":1,"external_links":0,"defined_names":17,"comments":7,"pivot_tables":0},"unopened":[],"bounds":{"document_bytes":16777216,"sheet_cells":100000,"rows_first":2000,"rows_last":500,"rows_between":2000,"halvings":0,"cell_chars":16384,"cell_head_chars":4096},"cells_cut":0,"cells_raw":0,"read":"whole","date_system":"1900"}

{"sheet":"ホーム","index":0,"n_rows":17,"n_cols":13,"rows_kept":17,"cut":false,"hidden":false,"merged":[]}
[null,null,"部位の熱貫流率早見表エクセル版",null,null,null,null,null,null,null,null,null,"2015-04-01"]
[]
[null,null,"■木造軸組工法"]
[]
[]
[]
[]
[]
[null,null,"■枠組壁工法（２×４工法）"]
[]
[]
[]
[]
["使用許諾条件"]
["①本ソフトウェアを使用したことによる損害、ならびに第３者からのいかなる請求についてもエンデバーハウス株式会社は、一切の責任を負いません。"]
[]
["※計算方法は、簡略計算法①で計算しています。本ソフトウェアは、予告なく変更する場合があります。"]

{"sheet":"天井　野縁上敷込","index":1,"n_rows":19,"n_cols":12,"rows_kept":19,"cut":false,"hidden":false,"merged":[[19,0,19,7],[4,10,4,11],[6,8,7,8],[13,1,13,2],[14,1,14,4],[15,1,15,4],[16,1,16,4],[16,5,16,6],[7,1,7,2],[8,1,8,2],[9,1,9,2],[10,1,10,2],[11,1,11,2],[12,1,12,2],[0,0,0,7],[4,1,5,2],[4,3,4,4],[5,3,5,4],[6,1,6,2],[6,5,6,6]]}
["部位U値計算シート　　＜部位＞ の熱貫流率"]
[]
[null,"1）簡略計算法①による部位熱貫流率"]
[null,"（","天井　野縁上敷込","）の実質熱貫流率　Ｗ/（㎡Ｋ）"]
[null,"仕様番号",null,"部　分　名",null,"一般部","熱橋部",null,"天井",null,"面積比率"]
[null,null,null,"熱橋面積比",null,1,null,null,"構法","断熱方法","一般部","熱橋部"]
[null,1,null,"熱伝導率λ\nＷ/(ｍ・Ｋ)","厚さｄ\nｍ","ｄ/λ\n㎡・Ｋ/Ｗ",null,null,"軸組・枠組壁","野縁上に敷き込む場合",1]
[null,"熱伝達抵抗　Ｒi",null,"－","－",0.09,null,null,null,"桁・梁間に断熱する場合",0.87,0.13]
[null,"石膏ボード",null,{"$f":"VLOOKUP(B9,DATAｼｰﾄ!$B$31:$C$34,2,FALSE)","v":0.22},1.2500000000000001E-2,{"$f":"IF(D9=0,\"\",E9/D9)","v":5.6818181818181823E-2},{"$f":"IF(D9=0,\"\",E9/D9)","v":5.6818181818181823E-2},null,null,"＊野縁上に断熱材を敷き詰める場合は、全て一般部"]
[null,"パーフェクトバリア１０K",null,{"$f":"VLOOKUP(B10,DATAｼｰﾄ!$B$16:$C$30,2,FALSE)","v":4.4999999999999998E-2},0.2,{"$f":"IF(D10=0,\"\",E10/D10)","v":4.4444444444444446},{"$f":"IF(D10=0,\"\",E10/D10)","v":4.4444444444444446}]
[null,null,null,0,0,{"$f":"IF(D11=0,\"\",E11/D11)","v":""},{"$f":"IF(D11=0,\"\",E11/D11)","v":""},null,"天井の　熱伝達抵抗Ri（室内側）：0.09"]
[null,null,null,0,0,{"$f":"IF(D12=0,\"\",E12/D12)","v":""},{"$f":"IF(D12=0,\"\",E12/D12)","v":""},null,"天井の　熱伝達抵抗Ro（室外側）：0.09"]
[null,null,null,0,0,{"$f":"IF(D13=0,\"\",E13/D13)","v":""},{"$f":"IF(D13=0,\"\",E13/D13)","v":""}]
[null,"熱伝達抵抗　Ｒo",null,"－","－",0.09]
[null,"熱貫流抵抗　　ΣＲ＝Σ（ｄｉ/λｉ）",null,null,null,{"$f":"SUM(F8:F14)","v":4.681262626262626},{"$f":"SUM(G8:G14)","v":4.5012626262626263}]
[null,"熱貫流率　　　Ｕｎ＝１/ΣＲ",null,null,null,{"$f":"IF(F15=0,\"\",1/F15)","v":0.21361758137427311},{"$f":"IF(G15=0,\"\",1/G15)","v":0.22215988779803647}]
[null,"平均熱貫流率　Ｕi＝Σ（ａin・Ｕｎ）　",null,null,null,{"$f":"IF(F15=0,\"\",(F6*F16)+(G6*G16))","v":0.21361758137427311}]
[]
[null,null,"層構成に応じ、計算値を使用するか「0」を入力してください。"]

{"sheet":"屋根　垂木間充填","index":2,"n_rows":19,"n_cols":12,"rows_kept":19,"cut":false,"hidden":false,"merged":[[14,1,14,4],[15,1,15,4],[16,1,16,4],[16,5,16,6],[19,0,19,7],[13,1,13,2],[0,0,0,7],[4,1,5,2],[4,3,4,4],[4,10,4,11],[5,3,5,4],[6,1,6,2],[6,5,6,6],[7,1,7,2],[8,1,8,2],[9,1,9,2],[10,1,10,2],[11,1,11,2],[12,1,12,2]]}
["部位U値計算シート　　＜部位＞ の熱貫流率"]
[]
[null,"1）簡略計算法①による部位熱貫流率"]
[null,"（","屋根　垂木間充填","）の実質熱貫流率　Ｗ/（㎡Ｋ）"]
[null,"仕様番号",null,"部　分　名",null,"一般部","熱橋部",null,"屋根",null,"面積比率"]
[null,null,null,"熱橋面積比",null,0.86,0.14000000000000001,null,"構法","断熱方法","一般部","熱橋部"]
[null,2,null,"熱伝導率λ\nＷ/(ｍ・Ｋ)","厚さｄ\nｍ","ｄ/λ\n㎡・Ｋ/Ｗ",null,null,"軸組・枠組壁","たる木間に断熱する場合",0.86,0.14000000000000001]
[null,"熱伝達抵抗　Ｒi",null,"－","－",0.09,0.09,null,"※1","野縁上に敷き込む場合",1]
[null,"石膏ボード",null,{"$f":"VLOOKUP(B9,DATAｼｰﾄ!$B$31:$C$34,2,FALSE)","v":0.22},1.2500000000000001E-2,{"$f":"IF(D9=0,\"\",E9/D9)","v":5.6818181818181823E-2},{"$f":"IF(D9=0,\"\",E9/D9)","v":5.6818181818181823E-2},null,null,"（※1　母屋下で断熱した場合）"]
[null,"パーフェクトバリア１３K",null,{"$f":"VLOOKUP(B10,DATAｼｰﾄ!$B$16:$C$30,2,FALSE)","v":3.9E-2},0.1,{"$f":"IF(D10=0,\"\",E10/D10)","v":2.5641025641025643},null,null,"屋根の　熱伝達抵抗Ri（室内側）：0.09"]
[null,"天然木材1種(桧･杉･えぞ松･とど松等)",null,{"$f":"VLOOKUP(B11,DATAｼｰﾄ!$B$35:$C$37,2,FALSE)","v":0.12},0.1,null,{"$f":"IF(D11=0,\"\",E11/D11)","v":0.83333333333333337},null,"屋根の　熱伝達抵抗Ro（室外側）：0.09"]
[null,null,null,0,0,{"$f":"IF(D12=0,\"\",E12/D12)","v":""},{"$f":"IF(D12=0,\"\",E12/D12)","v":""}]
[null,null,null,0,0,{"$f":"IF(D13=0,\"\",E13/D13)","v":""},{"$f":"IF(D13=0,\"\",E13/D13)","v":""}]
[null,"熱伝達抵抗　Ｒo",null,"－","－",0.09,0.09]
[null,"熱貫流抵抗　　ΣＲ＝Σ（ｄｉ/λｉ）",null,null,null,{"$f":"SUM(F8:F14)","v":2.8009207459207461},{"$f":"SUM(G8:G14)","v":1.0701515151515153}]
[null,"熱貫流率　　　Ｕｎ＝１/ΣＲ",null,null,null,{"$f":"IF(F15=0,\"\",1/F15)","v":0.35702545366783317},{"$f":"IF(G15=0,\"\",1/G15)","v":0.93444711878805031}]
[null,"平均熱貫流率　Ｕi＝Σ（ａin・Ｕｎ）　",null,null,null,{"$f":"IF(F15=0,\"\",(F6*F16)+(G6*G16))","v":0.43786448678466361}]
[]
[null,null,"層構成に応じ、計算値を使用するか「0」を入力してください。"]

{"sheet":"壁　軸組　充填","index":3,"n_rows":19,"n_cols":12,"rows_kept":19,"cut":false,"hidden":false,"merged":[[6,1,6,2],[6,5,6,6],[19,0,19,7],[7,1,7,2],[8,1,8,2],[9,1,9,2],[10,1,10,2],[11,1,11,2],[12,1,12,2],[13,1,13,2],[14,1,14,4],[15,1,15,4],[16,1,16,4],[16,5,16,6],[5,8,5,9],[0,0,0,7],[4,1,5,2],[4,3,4,4],[4,10,4,11],[5,3,5,4]]}
["部位U値計算シート　　＜部位＞ の熱貫流率"]
[]
[null,"1）簡略計算法①による部位熱貫流率"]
[null,"（","軸組　充填","）の実質熱貫流率　Ｗ/（㎡Ｋ）"]
[null,"仕様番号",null,"部　分　名",null,"一般部","熱橋部",null,"壁",null,"面積比率"]
[null,null,null,"熱橋面積比",null,0.83,0.17,null,"構法　：　断熱方法",null,"一般部","熱橋部"]
[null,3,null,"熱伝導率λ\nＷ/(ｍ・Ｋ)","厚さｄ\nｍ","ｄ/λ\n㎡・Ｋ/Ｗ",null,null,null,"軸組：柱・間柱間に充填する場合",0.83,0.17]
[null,"熱伝達抵抗　Ｒi",null,"－","－",0.11,0.11,null,null,"枠組壁：たて枠間に充填する場合",0.77,0.23]
[null,"石膏ボード",null,{"$f":"VLOOKUP(B9,DATAｼｰﾄ!$B$31:$C$34,2,FALSE)","v":0.22},1.2500000000000001E-2,{"$f":"IF(D9=0,\"\",E9/D9)","v":5.6818181818181823E-2},{"$f":"IF(D9=0,\"\",E9/D9)","v":5.6818181818181823E-2}]
[null,"パーフェクトバリア１０K",null,{"$f":"VLOOKUP(B10,DATAｼｰﾄ!$B$16:$C$30,2,FALSE)","v":4.4999999999999998E-2},0.1,{"$f":"IF(D10=0,\"\",E10/D10)","v":2.2222222222222223}]
[null,"天然木材1種(桧･杉･えぞ松･とど松等)",null,{"$f":"VLOOKUP(B11,DATAｼｰﾄ!$B$35:$C$37,2,FALSE)","v":0.12},0.1,null,{"$f":"IF(D11=0,\"\",E11/D11)","v":0.83333333333333337},null,"壁の　熱伝達抵抗Ri（室内側）：0.11"]
[null,"ダイライト",null,{"$f":"VLOOKUP(B12,DATAｼｰﾄ!$B$38:$C$41,2,FALSE)","v":0.13},1.2E-2,{"$f":"IF(D12=0,\"\",E12/D12)","v":9.2307692307692313E-2},{"$f":"IF(D12=0,\"\",E12/D12)","v":9.2307692307692313E-2},null,"壁の　熱伝達抵抗Ro（室外側）：0.11"]
[null,null,null,0,0,{"$f":"IF(D13=0,\"\",E13/D13)","v":""},{"$f":"IF(D13=0,\"\",E13/D13)","v":""}]
[null,"熱伝達抵抗　Ｒo",null,"－","－",0.11,0.11]
[null,"熱貫流抵抗　　ΣＲ＝Σ（ｄｉ/λｉ）",null,null,null,{"$f":"SUM(F8:F14)","v":2.5913480963480966},{"$f":"SUM(G8:G14)","v":1.2024592074592075}]
[null,"熱貫流率　　　Ｕｎ＝１/ΣＲ",null,null,null,{"$f":"IF(F15=0,\"\",1/F15)","v":0.38589952519666032},{"$f":"IF(G15=0,\"\",1/G15)","v":0.8316290430450417}]
[null,"平均熱貫流率　Ｕi＝Σ（ａin・Ｕｎ）　",null,null,null,{"$f":"IF(F15=0,\"\",(F6*F16)+(G6*G16))","v":0.46167354323088516}]
[]
[null,null,"層構成に応じ、計算値を使用するか「0」を入力してください。"]

{"sheet":"壁　枠組　充填","index":4,"n_rows":19,"n_cols":12,"rows_kept":19,"cut":false,"hidden":false,"merged":[[16,5,16,6],[19,0,19,7],[11,1,11,2],[12,1,12,2],[13,1,13,2],[14,1,14,4],[15,1,15,4],[16,1,16,4],[10,1,10,2],[0,0,0,7],[4,1,5,2],[4,3,4,4],[4,10,4,11],[5,3,5,4],[5,8,5,9],[6,1,6,2],[6,5,6,6],[7,1,7,2],[8,1,8,2],[9,1,9,2]]}
["部位U値計算シート　　＜部位＞ の熱貫流率"]
[]
[null,"1）簡略計算法①による部位熱貫流率"]
[null,"（","枠組　充填","）の実質熱貫流率　Ｗ/（㎡Ｋ）"]
[null,"仕様番号",null,"部　分　名",null,"一般部","熱橋部",null,"壁",null,"面積比率"]
[null,null,null,"熱橋面積比",null,0.77,0.23,null,"構法　：　断熱方法",null,"一般部","熱橋部"]
[null,4,null,"熱伝導率λ\nＷ/(ｍ・Ｋ)","厚さｄ\nｍ","ｄ/λ\n㎡・Ｋ/Ｗ",null,null,null,"軸組：柱・間柱間に充填する場合",0.83,0.17]
[null,"熱伝達抵抗　Ｒi",null,"－","－",0.11,0.11,null,null,"枠組壁：たて枠間に充填する場合",0.77,0.23]
[null,"石膏ボード",null,{"$f":"VLOOKUP(B9,DATAｼｰﾄ!$B$31:$C$34,2,FALSE)","v":0.22},1.2500000000000001E-2,{"$f":"IF(D9=0,\"\",E9/D9)","v":5.6818181818181823E-2},{"$f":"IF(D9=0,\"\",E9/D9)","v":5.6818181818181823E-2}]
[null,"パーフェクトバリア１３K",null,{"$f":"VLOOKUP(B10,DATAｼｰﾄ!$B$16:$C$30,2,FALSE)","v":3.9E-2},8.8999999999999996E-2,{"$f":"IF(D10=0,\"\",E10/D10)","v":2.2820512820512819}]
[null,"天然木材1種(桧･杉･えぞ松･とど松等)",null,{"$f":"VLOOKUP(B11,DATAｼｰﾄ!$B$35:$C$37,2,FALSE)","v":0.12},8.8999999999999996E-2,null,{"$f":"IF(D11=0,\"\",E11/D11)","v":0.7416666666666667},null,"壁の　熱伝達抵抗Ri（室内側）：0.11"]
[null,"合板",null,{"$f":"VLOOKUP(B12,DATAｼｰﾄ!$B$38:$C$41,2,FALSE)","v":0.16},8.9999999999999993E-3,{"$f":"IF(D12=0,\"\",E12/D12)","v":5.6249999999999994E-2},{"$f":"IF(D12=0,\"\",E12/D12)","v":5.6249999999999994E-2},null,"壁の　熱伝達抵抗Ro（室外側）：0.11"]
[null,null,null,0,0,{"$f":"IF(D13=0,\"\",E13/D13)","v":""},{"$f":"IF(D13=0,\"\",E13/D13)","v":""}]
[null,"熱伝達抵抗　Ｒo",null,"－","－",0.11,0.11]
[null,"熱貫流抵抗　　ΣＲ＝Σ（ｄｉ/λｉ）",null,null,null,{"$f":"SUM(F8:F14)","v":2.6151194638694637},{"$f":"SUM(G8:G14)","v":1.0747348484848485}]
[null,"熱貫流率　　　Ｕｎ＝１/ΣＲ",null,null,null,{"$f":"IF(F15=0,\"\",1/F15)","v":0.38239170860682181},{"$f":"IF(G15=0,\"\",1/G15)","v":0.93046205899975332}]
[null,"平均熱貫流率　Ｕi＝Σ（ａin・Ｕｎ）　",null,null,null,{"$f":"IF(F15=0,\"\",(F6*F16)+(G6*G16))","v":0.50844788919719608}]
[]
[null,null,"層構成に応じ、計算値を使用するか「0」を入力してください。"]

{"sheet":"その他床　剛床工法","index":5,"n_rows":19,"n_cols":12,"rows_kept":19,"cut":false,"hidden":false,"merged":[[16,5,16,6],[19,0,19,7],[12,1,12,2],[13,1,13,2],[14,1,14,4],[15,1,15,4],[16,1,16,4],[10,1,10,2],[0,0,0,7],[4,1,5,2],[4,3,4,4],[4,10,4,11],[5,3,5,4],[5,8,5,9],[6,1,6,2],[6,5,6,6],[7,1,7,2],[8,1,8,2],[9,1,9,2]]}
["部位U値計算シート　　＜部位＞ の熱貫流率"]
[]
[null,"1）簡略計算法①による部位熱貫流率"]
[null,"（","その他床　剛床工法","）の実質熱貫流率　Ｗ/（㎡Ｋ）"]
[null,"仕様番号",null,"部　分　名",null,"一般部","熱橋部",null,"その他床",null,"面積比率"]
[null,null,null,"熱橋面積比",null,0.85,0.15,null,"構法 ・ 断熱方法",null,"一般部","熱橋部"]
[null,5,null,"熱伝導率λ\nＷ/(ｍ・Ｋ)","厚さｄ\nｍ","ｄ/λ\n㎡・Ｋ/Ｗ",null,null,null,"軸組･枠組：大引間に充填(剛床工法)",0.85,0.15]
[null,"熱伝達抵抗　Ｒi",null,"－","－",0.15,0.15,null,null,"軸組：根太間に断熱する場合",0.8,0.2]
[null,"合板ﾌﾛｱ",null,{"$f":"VLOOKUP(B9,DATAｼｰﾄ!$B$31:$C$34,2,FALSE)","v":0.16},1.2E-2,{"$f":"IF(D9=0,\"\",E9/D9)","v":7.4999999999999997E-2},{"$f":"IF(D9=0,\"\",E9/D9)","v":7.4999999999999997E-2},null,null,"軸組：床梁土台同面工法で根太間断熱",0.7,0.3]
[null,"合板",null,{"$f":"VLOOKUP(B10,DATAｼｰﾄ!$B$31:$C$34,2,FALSE)","v":0.16},2.4E-2,{"$f":"IF(D10=0,\"\",E10/D10)","v":0.15},{"$f":"IF(D10=0,\"\",E10/D10)","v":0.15},null,null,"枠組壁：根太間に断熱",0.87,0.13]
[null,"パーフェクトバリア２０K（ネダレスボード）",null,{"$f":"VLOOKUP(B11,DATAｼｰﾄ!$B$16:$C$30,2,FALSE)","v":3.7999999999999999E-2},0.09,{"$f":"IF(D11=0,\"\",E11/D11)","v":2.3684210526315788}]
[null,"天然木材1種(桧･杉･えぞ松･とど松等)",null,{"$f":"VLOOKUP(B12,DATAｼｰﾄ!$B$35:$C$37,2,FALSE)","v":0.12},0.09,null,0.75,null,"床の　熱伝達抵抗Ri（室内側）：0.15"]
[null,null,null,0,0,{"$f":"IF(D13=0,\"\",E13/D13)","v":""},"",null,"床の　熱伝達抵抗Ro（室外側）：0.15"]
[null,"熱伝達抵抗　Ｒo",null,"－","－",0.15,0.15]
[null,"熱貫流抵抗　　ΣＲ＝Σ（ｄｉ/λｉ）",null,null,null,{"$f":"SUM(F8:F14)","v":2.8934210526315787},{"$f":"SUM(G8:G14)","v":1.2749999999999999}]
[null,"熱貫流率　　　Ｕｎ＝１/ΣＲ",null,null,null,{"$f":"IF(F15=0,\"\",1/F15)","v":0.3456116416552979},{"$f":"IF(G15=0,\"\",1/G15)","v":0.78431372549019618}]
[null,"平均熱貫流率　Ｕi＝Σ（ａin・Ｕｎ）　",null,null,null,{"$f":"IF(F15=0,\"\",(F6*F16)+(G6*G16))","v":0.41141695423053265}]
[]
[null,null,"層構成に応じ、計算値を使用するか「0」を入力してください。"]

{"sheet":"その他床　根太間","index":6,"n_rows":19,"n_cols":12,"rows_kept":19,"cut":false,"hidden":false,"merged":[[19,0,19,7],[12,1,12,2],[13,1,13,2],[14,1,14,4],[15,1,15,4],[16,1,16,4],[16,5,16,6],[10,1,10,2],[0,0,0,7],[4,1,5,2],[4,3,4,4],[4,10,4,11],[5,3,5,4],[5,8,5,9],[6,1,6,2],[6,5,6,6],[7,1,7,2],[8,1,8,2],[9,1,9,2]]}
["部位U値計算シート　　＜部位＞ の熱貫流率"]
[]
[null,"1）簡略計算法①による部位熱貫流率"]
[null,"（","その他床　根太工法","）の実質熱貫流率　Ｗ/（㎡Ｋ）"]
[null,"仕様番号",null,"部　分　名",null,"一般部","熱橋部",null,"その他床",null,"面積比率"]
[null,null,null,"熱橋面積比",null,0.8,0.2,null,"構法 ・ 断熱方法",null,"一般部","熱橋部"]
[null,6,null,"熱伝導率λ\nＷ/(ｍ・Ｋ)","厚さｄ\nｍ","ｄ/λ\n㎡・Ｋ/Ｗ",null,null,null,"軸組･枠組：大引間に充填(剛床工法)",0.85,0.15]
[null,"熱伝達抵抗　Ｒi",null,"－","－",0.15,0.15,null,null,"軸組：根太間に断熱する場合",0.8,0.2]
[null,"合板ﾌﾛｱ",null,{"$f":"VLOOKUP(B9,DATAｼｰﾄ!$B$31:$C$34,2,FALSE)","v":0.16},1.2E-2,{"$f":"IF(D9=0,\"\",E9/D9)","v":7.4999999999999997E-2},{"$f":"IF(D9=0,\"\",E9/D9)","v":7.4999999999999997E-2},null,null,"軸組：床梁土台同面工法で根太間断熱",0.7,0.3]
[null,"合板",null,{"$f":"VLOOKUP(B10,DATAｼｰﾄ!$B$31:$C$34,2,FALSE)","v":0.16},1.4999999999999999E-2,{"$f":"IF(D10=0,\"\",E10/D10)","v":9.375E-2},{"$f":"IF(D10=0,\"\",E10/D10)","v":9.375E-2},null,null,"枠組壁：根太間に断熱",0.87,0.13]
[null,"パーフェクトバリア３０K",null,{"$f":"VLOOKUP(B11,DATAｼｰﾄ!$B$16:$C$30,2,FALSE)","v":3.5000000000000003E-2},0.08,{"$f":"IF(D11=0,\"\",E11/D11)","v":2.2857142857142856}]
[null,"天然木材1種(桧･杉･えぞ松･とど松等)",null,{"$f":"VLOOKUP(B12,DATAｼｰﾄ!$B$35:$C$37,2,FALSE)","v":0.12},0.08,null,0.66666666666666674,null,"床の　熱伝達抵抗Ri（室内側）：0.15"]
[null,null,null,0,0,{"$f":"IF(D13=0,\"\",E13/D13)","v":""},"",null,"床の　熱伝達抵抗Ro（室外側）：0.15"]
[null,"熱伝達抵抗　Ｒo",null,"－","－",0.15,0.15]
[null,"熱貫流抵抗　　ΣＲ＝Σ（ｄｉ/λｉ）",null,null,null,{"$f":"SUM(F8:F14)","v":2.7544642857142856},{"$f":"SUM(G8:G14)","v":1.1354166666666667}]
[null,"熱貫流率　　　Ｕｎ＝１/ΣＲ",null,null,null,{"$f":"IF(F15=0,\"\",1/F15)","v":0.36304700162074555},{"$f":"IF(G15=0,\"\",1/G15)","v":0.88073394495412838}]
[null,"平均熱貫流率　Ｕi＝Σ（ａin・Ｕｎ）　",null,null,null,{"$f":"IF(F15=0,\"\",(F6*F16)+(G6*G16))","v":0.46658439028742216}]
[]
[null,null,"層構成に応じ、計算値を使用するか「0」を入力してください。"]

{"sheet":"外気に接する床　剛床工法","index":7,"n_rows":19,"n_cols":12,"rows_kept":19,"cut":false,"hidden":false,"merged":[[19,0,19,7],[12,1,12,2],[13,1,13,2],[14,1,14,4],[15,1,15,4],[16,1,16,4],[16,5,16,6],[10,1,10,2],[0,0,0,7],[4,1,5,2],[4,3,4,4],[4,10,4,11],[5,3,5,4],[5,8,5,9],[6,1,6,2],[6,5,6,6],[7,1,7,2],[8,1,8,2],[9,1,9,2]]}
["部位U値計算シート　　＜部位＞ の熱貫流率"]
[]
[null,"1）簡略計算法①による部位熱貫流率"]
[null,"（","外気床　剛床工法","）の実質熱貫流率　Ｗ/（㎡Ｋ）"]
[null,"仕様番号",null,"部　分　名",null,"一般部","熱橋部",null,"その他床",null,"面積比率"]
[null,null,null,"熱橋面積比",null,0.85,0.15,null,"構法 ・ 断熱方法",null,"一般部","熱橋部"]
[null,7,null,"熱伝導率λ\nＷ/(ｍ・Ｋ)","厚さｄ\nｍ","ｄ/λ\n㎡・Ｋ/Ｗ",null,null,null,"軸組･枠組：大引間に充填(剛床工法)",0.85,0.15]
[null,"熱伝達抵抗　Ｒi",null,"－","－",0.15,0.15,null,null,"軸組：根太間に断熱する場合",0.8,0.2]
[null,"合板ﾌﾛｱ",null,{"$f":"VLOOKUP(B9,DATAｼｰﾄ!$B$31:$C$34,2,FALSE)","v":0.16},1.2E-2,{"$f":"IF(D9=0,\"\",E9/D9)","v":7.4999999999999997E-2},{"$f":"IF(D9=0,\"\",E9/D9)","v":7.4999999999999997E-2},null,null,"軸組：床梁土台同面工法で根太間断熱",0.7,0.3]
[null,"合板",null,{"$f":"VLOOKUP(B10,DATAｼｰﾄ!$B$31:$C$34,2,FALSE)","v":0.16},2.4E-2,{"$f":"IF(D10=0,\"\",E10/D10)","v":0.15},{"$f":"IF(D10=0,\"\",E10/D10)","v":0.15},null,null,"枠組壁：根太間に断熱",0.87,0.13]
[null,"パーフェクトバリア１０K",null,{"$f":"VLOOKUP(B11,DATAｼｰﾄ!$B$16:$C$30,2,FALSE)","v":4.4999999999999998E-2},0.15,{"$f":"IF(D11=0,\"\",E11/D11)","v":3.3333333333333335}]
[null,"天然木材1種(桧･杉･えぞ松･とど松等)",null,{"$f":"VLOOKUP(B12,DATAｼｰﾄ!$B$35:$C$37,2,FALSE)","v":0.12},0.15,null,1.25,null,"外気床の　熱伝達抵抗Ri（室内側）：0.15"]
[null,null,null,0,0,{"$f":"IF(D13=0,\"\",E13/D13)","v":""},"",null,"外気床の　熱伝達抵抗Ro（室外側）：0.04"]
[null,"熱伝達抵抗　Ｒo",null,"－","－",0.04,0.04]
[null,"熱貫流抵抗　　ΣＲ＝Σ（ｄｉ/λｉ）",null,null,null,{"$f":"SUM(F8:F14)","v":3.7483333333333335},{"$f":"SUM(G8:G14)","v":1.665}]
[null,"熱貫流率　　　Ｕｎ＝１/ΣＲ",null,null,null,{"$f":"IF(F15=0,\"\",1/F15)","v":0.26678523788350378},{"$f":"IF(G15=0,\"\",1/G15)","v":0.60060060060060061}]
[null,"平均熱貫流率　Ｕi＝Σ（ａin・Ｕｎ）　",null,null,null,{"$f":"IF(F15=0,\"\",(F6*F16)+(G6*G16))","v":0.31685754229106833}]
[]
[null,null,"層構成に応じ、計算値を使用するか「0」を入力してください。"]

{"sheet":"その他床　枠組根太工法","index":8,"n_rows":19,"n_cols":12,"rows_kept":19,"cut":false,"hidden":false,"merged":[[19,0,19,7],[12,1,12,2],[13,1,13,2],[14,1,14,4],[15,1,15,4],[16,1,16,4],[16,5,16,6],[10,1,10,2],[0,0,0,7],[4,1,5,2],[4,3,4,4],[4,10,4,11],[5,3,5,4],[5,8,5,9],[6,1,6,2],[6,5,6,6],[7,1,7,2],[8,1,8,2],[9,1,9,2]]}
["部位U値計算シート　　＜部位＞ の熱貫流率"]
[]
[null,"1）簡略計算法①による部位熱貫流率"]
[null,"（","その他床　根太工法","）の実質熱貫流率　Ｗ/（㎡Ｋ）"]
[null,"仕様番号",null,"部　分　名",null,"一般部","熱橋部",null,"その他床",null,"面積比率"]
[null,null,null,"熱橋面積比",null,0.87,0.13,null,"構法 ・ 断熱方法",null,"一般部","熱橋部"]
[null,8,null,"熱伝導率λ\nＷ/(ｍ・Ｋ)","厚さｄ\nｍ","ｄ/λ\n㎡・Ｋ/Ｗ",null,null,null,"軸組･枠組：大引間に充填(剛床工法)",0.85,0.15]
[null,"熱伝達抵抗　Ｒi",null,"－","－",0.15,0.15,null,null,"軸組：根太間に断熱する場合",0.8,0.2]
[null,"合板ﾌﾛｱ",null,{"$f":"VLOOKUP(B9,DATAｼｰﾄ!$B$31:$C$34,2,FALSE)","v":0.16},1.2E-2,{"$f":"IF(D9=0,\"\",E9/D9)","v":7.4999999999999997E-2},{"$f":"IF(D9=0,\"\",E9/D9)","v":7.4999999999999997E-2},null,null,"軸組：床梁土台同面工法で根太間断熱",0.7,0.3]
[null,"合板",null,{"$f":"VLOOKUP(B10,DATAｼｰﾄ!$B$31:$C$34,2,FALSE)","v":0.16},1.4999999999999999E-2,{"$f":"IF(D10=0,\"\",E10/D10)","v":9.375E-2},{"$f":"IF(D10=0,\"\",E10/D10)","v":9.375E-2},null,null,"枠組壁：根太間に断熱",0.87,0.13]
[null,"パーフェクトバリア３０K",null,{"$f":"VLOOKUP(B11,DATAｼｰﾄ!$B$16:$C$30,2,FALSE)","v":3.5000000000000003E-2},0.08,{"$f":"IF(D11=0,\"\",E11/D11)","v":2.2857142857142856}]
[null,"天然木材1種(桧･杉･えぞ松･とど松等)",null,{"$f":"VLOOKUP(B12,DATAｼｰﾄ!$B$35:$C$37,2,FALSE)","v":0.12},0.08,null,0.66666666666666674,null,"床の　熱伝達抵抗Ri（室内側）：0.15"]
[null,null,null,0,0,{"$f":"IF(D13=0,\"\",E13/D13)","v":""},"",null,"床の　熱伝達抵抗Ro（室外側）：0.15"]
[null,"熱伝達抵抗　Ｒo",null,"－","－",0.15,0.15]
[null,"熱貫流抵抗　　ΣＲ＝Σ（ｄｉ/λｉ）",null,null,null,{"$f":"SUM(F8:F14)","v":2.7544642857142856},{"$f":"SUM(G8:G14)","v":1.1354166666666667}]
[null,"熱貫流率　　　Ｕｎ＝１/ΣＲ",null,null,null,{"$f":"IF(F15=0,\"\",1/F15)","v":0.36304700162074555},{"$f":"IF(G15=0,\"\",1/G15)","v":0.88073394495412838}]
[null,"平均熱貫流率　Ｕi＝Σ（ａin・Ｕｎ）　",null,null,null,{"$f":"IF(F15=0,\"\",(F6*F16)+(G6*G16))","v":0.43034630425408532}]
[]
[null,null,"層構成に応じ、計算値を使用するか「0」を入力してください。"]

{"sheet":"DATAｼｰﾄ","index":9,"n_rows":42,"n_cols":4,"rows_kept":42,"cut":false,"hidden":false,"merged":[[15,0,29,0],[30,0,33,0],[34,0,36,0],[37,0,40,0]]}
["この数値は他のシートに連動していますので、列、行を削除しないでください。"]
["外皮性能基準値"]
[null,null,"ＵA","ηA"]
[null,"１（Ⅰa）",0.46,"-"]
[null,"２（Ⅰb）",0.46,"-"]
[null,"３（Ⅱ）",0.56000000000000005,"-"]
[null,"４（Ⅲ）",0.75,"-"]
[null,"５（Ⅳa）",0.87,3]
[null,"６（Ⅳb）",0.87,2.8]
[null,"７（Ⅴ）",0.87,2.7]
[null,"８（Ⅵ）","-",3.2]
[]
[]
["熱伝導率表"]
[null,"材料","λ"]
["断熱材","　",null,"←空欄"]
[null,"パーフェクトバリア１０K",4.4999999999999998E-2]
[null,"パーフェクトバリア１３K",3.9E-2]
[null,"パーフェクトバリア２０K（ネダレスボード）",3.7999999999999999E-2]
[null,"パーフェクトバリア３０K",3.5000000000000003E-2]
[]
[]
[]
[]
[]
[]
[]
[]
[]
[]
["内装・内装下地","無し",0]
[null,"石膏ボード",0.22]
[null,"合板",0.16]
[null,"合板ﾌﾛｱ",0.16]
["木","天然木材1種(桧･杉･えぞ松･とど松等)",0.12]
[null,"天然木材2種(松･ﾗﾜﾝ等)",0.15]
[null,"天然木材3種(ﾅﾗ･ｻｸﾗ･ﾌﾞﾅ等)",0.19]
["外合板","パーティクルボード",0.15]
[null,"ダイライト",0.13]
[null,"合板",0.16]
[null,"ノボパン",0.15]
["躯体","コンクリート",1.6]